BEGIN:VCALENDAR
VERSION:2.0
PRODID:-//HVV-M&uuml;hlbach e.V. - ECPv6.15.20//NONSGML v1.0//EN
CALSCALE:GREGORIAN
METHOD:PUBLISH
X-ORIGINAL-URL:https://hvv-muehlbach.de
X-WR-CALDESC:Veranstaltungen für HVV-M&uuml;hlbach e.V.
REFRESH-INTERVAL;VALUE=DURATION:PT1H
X-Robots-Tag:noindex
X-PUBLISHED-TTL:PT1H
BEGIN:VTIMEZONE
TZID:Europe/Paris
BEGIN:DAYLIGHT
TZOFFSETFROM:+0100
TZOFFSETTO:+0200
TZNAME:CEST
DTSTART:20240331T010000
END:DAYLIGHT
BEGIN:STANDARD
TZOFFSETFROM:+0200
TZOFFSETTO:+0100
TZNAME:CET
DTSTART:20241027T010000
END:STANDARD
BEGIN:DAYLIGHT
TZOFFSETFROM:+0100
TZOFFSETTO:+0200
TZNAME:CEST
DTSTART:20250330T010000
END:DAYLIGHT
BEGIN:STANDARD
TZOFFSETFROM:+0200
TZOFFSETTO:+0100
TZNAME:CET
DTSTART:20251026T010000
END:STANDARD
BEGIN:DAYLIGHT
TZOFFSETFROM:+0100
TZOFFSETTO:+0200
TZNAME:CEST
DTSTART:20260329T010000
END:DAYLIGHT
BEGIN:STANDARD
TZOFFSETFROM:+0200
TZOFFSETTO:+0100
TZNAME:CET
DTSTART:20261025T010000
END:STANDARD
END:VTIMEZONE
BEGIN:VEVENT
DTSTART;TZID=Europe/Paris:20250308T190000
DTEND;TZID=Europe/Paris:20250308T210000
DTSTAMP:20260421T140446
CREATED:20241003T130816Z
LAST-MODIFIED:20241204T145051Z
UID:391-1741460400-1741467600@hvv-muehlbach.de
SUMMARY:Generalhauptversammlung 2025
DESCRIPTION:
URL:https://hvv-muehlbach.de/event/generalhauptversammlung-2025/
LOCATION:Gaststätte zum Ochsen\, Brettachstraße 10\,\, Eppingen\, 75031\, Germany
CATEGORIES:Organisatorisch
ORGANIZER;CN="Heimat- und Verkehrsverein M%C3%BChlbach e.V.":MAILTO:info@hvv-muehlbach.de
END:VEVENT
END:VCALENDAR