BEGIN:VCALENDAR
VERSION:2.0
PRODID:-//HVV-M&uuml;hlbach e.V. - ECPv6.15.20//NONSGML v1.0//EN
CALSCALE:GREGORIAN
METHOD:PUBLISH
X-ORIGINAL-URL:https://hvv-muehlbach.de
X-WR-CALDESC:Veranstaltungen für HVV-M&uuml;hlbach e.V.
REFRESH-INTERVAL;VALUE=DURATION:PT1H
X-Robots-Tag:noindex
X-PUBLISHED-TTL:PT1H
BEGIN:VTIMEZONE
TZID:Europe/Berlin
BEGIN:DAYLIGHT
TZOFFSETFROM:+0100
TZOFFSETTO:+0200
TZNAME:CEST
DTSTART:20240331T010000
END:DAYLIGHT
BEGIN:STANDARD
TZOFFSETFROM:+0200
TZOFFSETTO:+0100
TZNAME:CET
DTSTART:20241027T010000
END:STANDARD
BEGIN:DAYLIGHT
TZOFFSETFROM:+0100
TZOFFSETTO:+0200
TZNAME:CEST
DTSTART:20250330T010000
END:DAYLIGHT
BEGIN:STANDARD
TZOFFSETFROM:+0200
TZOFFSETTO:+0100
TZNAME:CET
DTSTART:20251026T010000
END:STANDARD
BEGIN:DAYLIGHT
TZOFFSETFROM:+0100
TZOFFSETTO:+0200
TZNAME:CEST
DTSTART:20260329T010000
END:DAYLIGHT
BEGIN:STANDARD
TZOFFSETFROM:+0200
TZOFFSETTO:+0100
TZNAME:CET
DTSTART:20261025T010000
END:STANDARD
END:VTIMEZONE
BEGIN:VEVENT
DTSTART;TZID=Europe/Berlin:20250430T180000
DTEND;TZID=Europe/Berlin:20250430T200000
DTSTAMP:20260421T121020
CREATED:20241205T072125Z
LAST-MODIFIED:20250312T115244Z
UID:1228-1746036000-1746043200@hvv-muehlbach.de
SUMMARY:Maibaum Aufstellung 2025
DESCRIPTION:
URL:https://hvv-muehlbach.de/event/maibaum-aufstellung/
LOCATION:Rathausplatz\, Hauptstraße 9\, Eppingen\, Baden-Württemberg\, 75031\, Germany
CATEGORIES:Event,Feste und Feiern
ATTACH;FMTTYPE=image/jpeg:https://hvv-muehlbach.de/wp-content/uploads/2024/12/Maibaum.jpg
ORGANIZER;CN="Heimat- und Verkehrsverein M%C3%BChlbach e.V.":MAILTO:info@hvv-muehlbach.de
END:VEVENT
END:VCALENDAR