BEGIN:VCALENDAR
VERSION:2.0
PRODID:-//HVV-M&uuml;hlbach e.V. - ECPv6.15.20//NONSGML v1.0//EN
CALSCALE:GREGORIAN
METHOD:PUBLISH
X-WR-CALNAME:HVV-M&uuml;hlbach e.V.
X-ORIGINAL-URL:https://hvv-muehlbach.de
X-WR-CALDESC:Veranstaltungen für HVV-M&uuml;hlbach e.V.
REFRESH-INTERVAL;VALUE=DURATION:PT1H
X-Robots-Tag:noindex
X-PUBLISHED-TTL:PT1H
BEGIN:VTIMEZONE
TZID:Europe/Berlin
BEGIN:DAYLIGHT
TZOFFSETFROM:+0100
TZOFFSETTO:+0200
TZNAME:CEST
DTSTART:20240331T010000
END:DAYLIGHT
BEGIN:STANDARD
TZOFFSETFROM:+0200
TZOFFSETTO:+0100
TZNAME:CET
DTSTART:20241027T010000
END:STANDARD
BEGIN:DAYLIGHT
TZOFFSETFROM:+0100
TZOFFSETTO:+0200
TZNAME:CEST
DTSTART:20250330T010000
END:DAYLIGHT
BEGIN:STANDARD
TZOFFSETFROM:+0200
TZOFFSETTO:+0100
TZNAME:CET
DTSTART:20251026T010000
END:STANDARD
BEGIN:DAYLIGHT
TZOFFSETFROM:+0100
TZOFFSETTO:+0200
TZNAME:CEST
DTSTART:20260329T010000
END:DAYLIGHT
BEGIN:STANDARD
TZOFFSETFROM:+0200
TZOFFSETTO:+0100
TZNAME:CET
DTSTART:20261025T010000
END:STANDARD
END:VTIMEZONE
BEGIN:VEVENT
DTSTART;VALUE=DATE:20250901
DTEND;VALUE=DATE:20250907
DTSTAMP:20260420T225512
CREATED:20250312T120520Z
LAST-MODIFIED:20250312T120520Z
UID:1419-1756695600-1757127599@hvv-muehlbach.de
SUMMARY:Bildhauerkurs: "Der Weg zur Form"
DESCRIPTION:im Mühlbacher Steinbruch mit dem Künstler Knut Hüneke.
URL:https://hvv-muehlbach.de/event/bildhauerkurs-der-weg-zur-form/
LOCATION:Steinbruch Mühlbach\, Steinbruchweg\, Eppingen\, 75031\, Germany
CATEGORIES:Bildhauerkurse,Kurse
ATTACH;FMTTYPE=image/jpeg:https://hvv-muehlbach.de/wp-content/uploads/2025/03/Knut-Hueneke.jpg
ORGANIZER;CN="Heimat- und Verkehrsverein M%C3%BChlbach e.V.":MAILTO:info@hvv-muehlbach.de
END:VEVENT
END:VCALENDAR