BEGIN:VCALENDAR
VERSION:2.0
PRODID:-//HVV-M&uuml;hlbach e.V. - ECPv6.15.20//NONSGML v1.0//EN
CALSCALE:GREGORIAN
METHOD:PUBLISH
X-WR-CALNAME:HVV-M&uuml;hlbach e.V.
X-ORIGINAL-URL:https://hvv-muehlbach.de
X-WR-CALDESC:Veranstaltungen für HVV-M&uuml;hlbach e.V.
REFRESH-INTERVAL;VALUE=DURATION:PT1H
X-Robots-Tag:noindex
X-PUBLISHED-TTL:PT1H
BEGIN:VTIMEZONE
TZID:Europe/Berlin
BEGIN:DAYLIGHT
TZOFFSETFROM:+0100
TZOFFSETTO:+0200
TZNAME:CEST
DTSTART:20250330T010000
END:DAYLIGHT
BEGIN:STANDARD
TZOFFSETFROM:+0200
TZOFFSETTO:+0100
TZNAME:CET
DTSTART:20251026T010000
END:STANDARD
BEGIN:DAYLIGHT
TZOFFSETFROM:+0100
TZOFFSETTO:+0200
TZNAME:CEST
DTSTART:20260329T010000
END:DAYLIGHT
BEGIN:STANDARD
TZOFFSETFROM:+0200
TZOFFSETTO:+0100
TZNAME:CET
DTSTART:20261025T010000
END:STANDARD
BEGIN:DAYLIGHT
TZOFFSETFROM:+0100
TZOFFSETTO:+0200
TZNAME:CEST
DTSTART:20270328T010000
END:DAYLIGHT
BEGIN:STANDARD
TZOFFSETFROM:+0200
TZOFFSETTO:+0100
TZNAME:CET
DTSTART:20271031T010000
END:STANDARD
END:VTIMEZONE
BEGIN:VEVENT
DTSTART;VALUE=DATE:20260810
DTEND;VALUE=DATE:20260816
DTSTAMP:20260422T122307
CREATED:20260413T165216Z
LAST-MODIFIED:20260413T165515Z
UID:2187-1786330800-1786762799@hvv-muehlbach.de
SUMMARY:Bildhauerkurs: "Kreativität in Stein"
DESCRIPTION:Unter fachkundiger Anleitung von Hans Weilguni haben die Teilnehmer die Möglichkeit\, ihre eigenen Ideen in Skulpturen zu verwandeln und zwar unabhängig davon\, ob bereits Vorkenntnisse vorhanden sind oder erste Erfahrungen in der Bildhauerei gesammelt werden sollen. Schritt für Schritt lernen sie die Kunst der Steinbearbeitung kennen und erfahren\, wie aus einer ersten Idee ein individuelles Kunstwerk entsteht. Dabei stehen sowohl die Vermittlung handwerklicher Techniken als auch die Förderung der eigenen Kreativität im Mitteilpunkt.
URL:https://hvv-muehlbach.de/event/bildhauerkurs-kreativitaet-in-stein/
LOCATION:Steinbruch Mühlbach\, Steinbruchweg\, Eppingen\, 75031\, Germany
CATEGORIES:Bildhauerkurse
ATTACH;FMTTYPE=image/jpeg:https://hvv-muehlbach.de/wp-content/uploads/2026/04/Bildhauerkurs_2020_Schnecke.jpg
ORGANIZER;CN="Heimat- und Verkehrsverein M%C3%BChlbach e.V.":MAILTO:info@hvv-muehlbach.de
END:VEVENT
END:VCALENDAR